BEGIN:VCALENDAR
VERSION:2.0
PRODID:-//ChamberMaster//Event Calendar 2.0//EN
METHOD:PUBLISH
X-PUBLISHED-TTL:P3D
REFRESH-INTERVAL:P3D
CALSCALE:GREGORIAN
BEGIN:VEVENT
DTSTART:20240905T180000Z
DTEND:20240905T183000Z
X-MICROSOFT-CDO-ALLDAYEVENT:FALSE
SUMMARY:RIBBON CUTTING: CenterPoint Hospital of Columbia
DESCRIPTION:Ambassadors will perform a ribbon cutting to kick off their Back to School Supply Drive Thru event.
X-ALT-DESC;FMTTYPE=text/html:Ambassadors will perform a ribbon cutting to kick off their Back to School Supply Drive Thru event.
LOCATION:CenterPoint Hospital of Columbi 1201 International Dr. Columbia\, MO 65202
UID:e.2790.11624
SEQUENCE:3
DTSTAMP:20260421T105245Z
URL:https://business.comochamber.com/events/details/ribbon-cutting-centerpoint-hospital-of-columbia-11624
END:VEVENT

END:VCALENDAR
