BEGIN:VCALENDAR
VERSION:2.0
PRODID:-//ChamberMaster//Event Calendar 2.0//EN
METHOD:PUBLISH
X-PUBLISHED-TTL:P3D
REFRESH-INTERVAL:P3D
CALSCALE:GREGORIAN
BEGIN:VEVENT
DTSTART:20250606T200000Z
DTEND:20250606T203000Z
X-MICROSOFT-CDO-ALLDAYEVENT:FALSE
SUMMARY:RIBBON CUTTING: CCR Wealth Management
DESCRIPTION:The Ambassadors will perform a ribbon cutting to celebrate CCR Wealth Management's new location and bringing on a new advisor to their team.
X-ALT-DESC;FMTTYPE=text/html:<span style="font-family:calibri\,sans-serif\;"><span style="font-size:12.0pt\;">The Ambassadors will perform a ribbon cutting to celebrate CCR Wealth Management&rsquo\;s new location and bringing on a new advisor to their team.&nbsp\;&nbsp\;</span></span>
LOCATION:CCR Wealth Management 2415 Carter Ln Suite 1 Columbia MO 65201
UID:e.2790.12031
SEQUENCE:3
DTSTAMP:20260420T215910Z
URL:https://business.comochamber.com/events/details/ribbon-cutting-ccr-wealth-management-12031
END:VEVENT

END:VCALENDAR
