BEGIN:VCALENDAR
VERSION:2.0
PRODID:-//ChamberMaster//Event Calendar 2.0//EN
METHOD:PUBLISH
X-PUBLISHED-TTL:P3D
REFRESH-INTERVAL:P3D
CALSCALE:GREGORIAN
BEGIN:VEVENT
DTSTART:20250430T211500Z
DTEND:20250430T214500Z
X-MICROSOFT-CDO-ALLDAYEVENT:FALSE
SUMMARY:RIBBON CUTTING: Cataleya Travel
DESCRIPTION:The Ambassadors will host a ribbon cutting to celebrate Cataleya Travel's new Chamber membership.
X-ALT-DESC;FMTTYPE=text/html:The Ambassadors will host a ribbon cutting to celebrate Cataleya Travel&#39\;s new Chamber membership.
LOCATION:The Heist 15 S. 5th St. Columbia\, MO 65201
UID:e.2790.12006
SEQUENCE:3
DTSTAMP:20260421T004813Z
URL:https://business.comochamber.com/events/details/ribbon-cutting-cataleya-travel-12006
END:VEVENT

END:VCALENDAR
