BEGIN:VCALENDAR
VERSION:2.0
PRODID:-//ChamberMaster//Event Calendar 2.0//EN
METHOD:PUBLISH
X-PUBLISHED-TTL:P3D
REFRESH-INTERVAL:P3D
CALSCALE:GREGORIAN
BEGIN:VEVENT
DTSTART:20241213T210000Z
DTEND:20241213T213000Z
X-MICROSOFT-CDO-ALLDAYEVENT:FALSE
SUMMARY:RIBBON CUTTING: Burrell Behavioral Health
DESCRIPTION:Ambassadors will perform a ribbon cutting to celebrate adding The Phoenix Clinic to their organization\, along with a celebration of several completed renovations.
X-ALT-DESC;FMTTYPE=text/html:Ambassadors will perform a ribbon cutting to celebrate adding The Phoenix Clinic to their organization\, along with a celebration of several completed renovations.&nbsp\;
LOCATION:90 E Leslie Lane Columbia\, MO 65202
UID:e.2790.11676
SEQUENCE:3
DTSTAMP:20260421T063702Z
URL:https://business.comochamber.com/events/details/ribbon-cutting-burrell-behavioral-health-11676
END:VEVENT

END:VCALENDAR
