BEGIN:VCALENDAR
VERSION:2.0
PRODID:-//ChamberMaster//Event Calendar 2.0//EN
METHOD:PUBLISH
X-PUBLISHED-TTL:P3D
REFRESH-INTERVAL:P3D
CALSCALE:GREGORIAN
BEGIN:VEVENT
DTSTART:20230217T170000Z
DTEND:20230217T173000Z
X-MICROSOFT-CDO-ALLDAYEVENT:FALSE
SUMMARY:RIBBON CUTTING: BTC Bank
DESCRIPTION:Ambassadors will host a ribbon cutting celebrating BTC Bank's Grand Opening.
X-ALT-DESC;FMTTYPE=text/html:<span style="font-size:14px\;"><span style="font-family:verdana\;">Ambassadors will host a ribbon cutting celebrating BTC Bank&#39\;s Grand Opening.</span></span>
LOCATION:BTC Bank 4000 Range Line St. Columbia MO 65202
UID:e.2790.10553
SEQUENCE:3
DTSTAMP:20260422T225622Z
URL:https://business.comochamber.com/events/details/ribbon-cutting-btc-bank-10553
END:VEVENT

END:VCALENDAR
