BEGIN:VCALENDAR
VERSION:2.0
PRODID:-//ChamberMaster//Event Calendar 2.0//EN
METHOD:PUBLISH
X-PUBLISHED-TTL:P3D
REFRESH-INTERVAL:P3D
CALSCALE:GREGORIAN
BEGIN:VEVENT
DTSTART:20240606T223000Z
DTEND:20240606T230000Z
X-MICROSOFT-CDO-ALLDAYEVENT:FALSE
SUMMARY:RIBBON CUTTING: Bry Reine Agency LLC - American Family Insusrance
DESCRIPTION:Ambassadors will host a ribbon cutting celebrating Bry Reine Agency LLC - American Family Insurance Grand Opening and Open House.
X-ALT-DESC;FMTTYPE=text/html:<span style="font-family:verdana\;"><span style="font-size:14px\;">Ambassadors will host a ribbon cutting celebrating Bry Reine Agency LLC - American Family Insurance Grand Opening and Open House.</span></span>
LOCATION:Bry Reine Agency LLC American Family Insurance 2909 Falling Leaf Land\, Ste.C Columbia MO 65201
UID:e.2790.11248
SEQUENCE:3
DTSTAMP:20260421T192512Z
URL:https://business.comochamber.com/events/details/ribbon-cutting-bry-reine-agency-llc-american-family-insusrance-11248
END:VEVENT

END:VCALENDAR
