BEGIN:VCALENDAR
VERSION:2.0
PRODID:-//ChamberMaster//Event Calendar 2.0//EN
METHOD:PUBLISH
X-PUBLISHED-TTL:P3D
REFRESH-INTERVAL:P3D
CALSCALE:GREGORIAN
BEGIN:VEVENT
DTSTART:20241025T150000Z
DTEND:20241025T153000Z
X-MICROSOFT-CDO-ALLDAYEVENT:FALSE
SUMMARY:RIBBON CUTTING: Brightspeed
DESCRIPTION:The Ambassadors will perform a ribbon cutting to celebrate the launch of high-speed fiber internet service in COMO.
X-ALT-DESC;FMTTYPE=text/html:The Ambassadors will perform a ribbon cutting to celebrate the launch of high-speed fiber internet service in COMO.
LOCATION:Gordon Shelter Stephen's Lake Park 2001 E Broadway Columbia\, MO 65201
UID:e.2790.11647
SEQUENCE:3
DTSTAMP:20260421T091701Z
URL:https://business.comochamber.com/events/details/ribbon-cutting-brightspeed-11647
END:VEVENT

END:VCALENDAR
