BEGIN:VCALENDAR
VERSION:2.0
PRODID:-//ChamberMaster//Event Calendar 2.0//EN
METHOD:PUBLISH
X-PUBLISHED-TTL:P3D
REFRESH-INTERVAL:P3D
CALSCALE:GREGORIAN
BEGIN:VEVENT
DTSTART:20240503T140000Z
DTEND:20240504T023000Z
X-MICROSOFT-CDO-ALLDAYEVENT:FALSE
SUMMARY:RIBBON CUTTING: Brad Crum Creative LLC
DESCRIPTION:Ambassadors will host a ribbon cutting celebrating Brad Crum Creative's 5 Year anniversary.
X-ALT-DESC;FMTTYPE=text/html:<span style="font-size:14px\;"><span style="font-family:verdana\;">Ambassadors will host a ribbon cutting celebrating Brad Crum Creative&#39\;s 5 Year anniversary.</span></span>
LOCATION:ACA Business Club 204 Peach Way Ste. A Columbia MO 65203
UID:e.2790.11232
SEQUENCE:3
DTSTAMP:20260421T204448Z
URL:https://business.comochamber.com/events/details/ribbon-cutting-brad-crum-creative-llc-11232
END:VEVENT

END:VCALENDAR
