BEGIN:VCALENDAR
VERSION:2.0
PRODID:-//ChamberMaster//Event Calendar 2.0//EN
METHOD:PUBLISH
X-PUBLISHED-TTL:P3D
REFRESH-INTERVAL:P3D
CALSCALE:GREGORIAN
BEGIN:VEVENT
DTSTART:20200226T220000Z
DTEND:20200226T223000Z
X-MICROSOFT-CDO-ALLDAYEVENT:FALSE
SUMMARY:RIBBON CUTTING: Boys & Girls Clubs of Columbia
DESCRIPTION:Ambassadors will host a ribbon cutting celebrating the opening of their Blue Ridge Elementary School Site.
X-ALT-DESC;FMTTYPE=text/html:<span style="font-size:14px\;"><span style="font-family:verdana\;">Ambassadors will host a ribbon cutting celebrating the opening of their Blue Ridge Elementary School Site.</span></span>
LOCATION:Blue Ridge Elementary 3700 Woodland Rd. Columbia MO 65202
UID:e.2790.7071
SEQUENCE:3
DTSTAMP:20260426T014440Z
URL:https://business.comochamber.com/events/details/ribbon-cutting-boys-girls-clubs-of-columbia-7071
END:VEVENT

END:VCALENDAR
