BEGIN:VCALENDAR
VERSION:2.0
PRODID:-//ChamberMaster//Event Calendar 2.0//EN
METHOD:PUBLISH
X-PUBLISHED-TTL:P3D
REFRESH-INTERVAL:P3D
CALSCALE:GREGORIAN
BEGIN:VEVENT
DTSTART:20240830T213000Z
DTEND:20240830T220000Z
X-MICROSOFT-CDO-ALLDAYEVENT:FALSE
SUMMARY:RIBBON CUTTING: Boulevard Realty
DESCRIPTION:Ambassadors will host a ribbon cutting celebrating Boulevard Realty's new location.
X-ALT-DESC;FMTTYPE=text/html:<span style="font-size:14px\;"><span style="font-family:verdana\;">Ambassadors will host a ribbon cutting celebrating Boulevard Realty&#39\;s new location.</span></span>
LOCATION:Boulevard Realty 1000 West Nifong Boulevard Building 8\, Ste. 110 Columbia MO 65203
UID:e.2790.11464
SEQUENCE:3
DTSTAMP:20260421T154916Z
URL:https://business.comochamber.com/events/details/ribbon-cutting-boulevard-realty-11464
END:VEVENT

END:VCALENDAR
