BEGIN:VCALENDAR
VERSION:2.0
PRODID:-//ChamberMaster//Event Calendar 2.0//EN
METHOD:PUBLISH
X-PUBLISHED-TTL:P3D
REFRESH-INTERVAL:P3D
CALSCALE:GREGORIAN
BEGIN:VEVENT
DTSTART:20201202T230000Z
DTEND:20201202T231500Z
X-MICROSOFT-CDO-ALLDAYEVENT:FALSE
SUMMARY:RIBBON CUTTING: Boone-Central Title
DESCRIPTION:Ambassadors will host a ribbon cutting celebrating Karen Brown's Retirement. President of Boone-Central Title and Fellow Ambassador
X-ALT-DESC;FMTTYPE=text/html:Ambassadors will host a ribbon cutting celebrating Karen Brown&#39\;s Retirement. President of Boone-Central Title and Fellow Ambassador
LOCATION:WEDNESDAY\, DECEMBER 2 Event start: 5 p.m. Ribbon cutting to follow at 5:15 p.m. + Boone-Central Title Retirement of Karen Brown\, President of BCT and Fellow Ambassador Virtual: Join Zoom Meeting https://us02web.zoom.us/j/87568817957 Meeting ID: 875 6881 7957 Dial by your location: +1 312 626 6799 US
UID:e.2790.7907
SEQUENCE:3
DTSTAMP:20260424T183154Z
URL:https://business.comochamber.com/events/details/ribbon-cutting-boone-central-title-7907
END:VEVENT

END:VCALENDAR
