BEGIN:VCALENDAR
VERSION:2.0
PRODID:-//ChamberMaster//Event Calendar 2.0//EN
METHOD:PUBLISH
X-PUBLISHED-TTL:P3D
REFRESH-INTERVAL:P3D
CALSCALE:GREGORIAN
BEGIN:VEVENT
DTSTART:20240521T214500Z
DTEND:20240521T221500Z
X-MICROSOFT-CDO-ALLDAYEVENT:FALSE
SUMMARY:RIBBON CUTTING: Better Together Mental Health
DESCRIPTION:Ambassadors will host a ribbon cutting celebrating Better Together Mental Health's new office spaces and expansion of services.
X-ALT-DESC;FMTTYPE=text/html:<span style="font-size:14px\;"><span style="font-family:verdana\;">Ambassadors will host a ribbon cutting celebrating Better Together Mental Health&#39\;s new office spaces and expansion of services.</span></span>
LOCATION:Better Together Mental Health 3610 Buttonwood Dr. Ste. 200 Columbia MO 65201
UID:e.2790.11264
SEQUENCE:3
DTSTAMP:20260421T205337Z
URL:https://business.comochamber.com/events/details/ribbon-cutting-better-together-mental-health-11264
END:VEVENT

END:VCALENDAR
