BEGIN:VCALENDAR
VERSION:2.0
PRODID:-//ChamberMaster//Event Calendar 2.0//EN
METHOD:PUBLISH
X-PUBLISHED-TTL:P3D
REFRESH-INTERVAL:P3D
CALSCALE:GREGORIAN
BEGIN:VEVENT
DTSTART:20250123T223000Z
DTEND:20250123T230000Z
X-MICROSOFT-CDO-ALLDAYEVENT:FALSE
SUMMARY:RIBBON CUTTING: Atterberry Auction & Realty Co.
DESCRIPTION:The Ambassadors will perform a ribbon cutting to celebrate the new office building location.
X-ALT-DESC;FMTTYPE=text/html:The Ambassadors will perform a ribbon cutting to celebrate the new office building location.&nbsp\;
LOCATION:7855 E. Progress Pl. Columbia\, MO 65201
UID:e.2790.11669
SEQUENCE:3
DTSTAMP:20260421T065025Z
URL:https://business.comochamber.com/events/details/ribbon-cutting-atterberry-auction-realty-co-11669
END:VEVENT

END:VCALENDAR
