BEGIN:VCALENDAR
VERSION:2.0
PRODID:-//ChamberMaster//Event Calendar 2.0//EN
METHOD:PUBLISH
X-PUBLISHED-TTL:P3D
REFRESH-INTERVAL:P3D
CALSCALE:GREGORIAN
BEGIN:VEVENT
DTSTART:20250307T211500Z
DTEND:20250307T214500Z
X-MICROSOFT-CDO-ALLDAYEVENT:FALSE
SUMMARY:RIBBON CUTTING: Andrea Lyn Events
DESCRIPTION:Ambassadors will perform a ribbon cutting for The Heart of Missouri Women's Show Kick-off.
X-ALT-DESC;FMTTYPE=text/html:Ambassadors will perform a ribbon cutting for The Heart of Missouri Women&#39\;s Show Kick-off.&nbsp\;
LOCATION:The Columbia Mall (located on the Main Stage in the H&M Atrium) 2300 Bernadette Dr. Columbia\, MO 65203
UID:e.2790.11688
SEQUENCE:3
DTSTAMP:20260421T015317Z
URL:https://business.comochamber.com/events/details/ribbon-cutting-andrea-lyn-events-11688
END:VEVENT

END:VCALENDAR
