BEGIN:VCALENDAR
VERSION:2.0
PRODID:-//ChamberMaster//Event Calendar 2.0//EN
METHOD:PUBLISH
X-PUBLISHED-TTL:P3D
REFRESH-INTERVAL:P3D
CALSCALE:GREGORIAN
BEGIN:VEVENT
DTSTART:20241114T164500Z
DTEND:20241114T171500Z
X-MICROSOFT-CDO-ALLDAYEVENT:FALSE
SUMMARY:RIBBON CUTTING: Anderson Homes
DESCRIPTION:The Ambassadors will perform a ribbon cutting to celebrate the Grand Opening of The Cottages Evergreen.
X-ALT-DESC;FMTTYPE=text/html:The Ambassadors will perform a ribbon cutting to celebrate the Grand Opening of The Cottages Evergreen.
LOCATION:2609 Frazier Loop Lane Columbia\, MO 65202
UID:e.2790.11668
SEQUENCE:3
DTSTAMP:20260421T073804Z
URL:https://business.comochamber.com/events/details/ribbon-cutting-anderson-homes-11668
END:VEVENT

END:VCALENDAR
