BEGIN:VCALENDAR
VERSION:2.0
PRODID:-//ChamberMaster//Event Calendar 2.0//EN
METHOD:PUBLISH
X-PUBLISHED-TTL:P3D
REFRESH-INTERVAL:P3D
CALSCALE:GREGORIAN
BEGIN:VEVENT
DTSTART:20210617T213000Z
DTEND:20210617T220000Z
X-MICROSOFT-CDO-ALLDAYEVENT:FALSE
SUMMARY:RIBBON CUTTING: Ambassador 1\,000 Point Tree Dedication - Ann Merrifield
DESCRIPTION:Ambassadors will host a ribbon cutting celebrating Ann Merrifield's 1\,000 Point Ambassador Tree Dedication. Taking place outside\, the Northwest corner of Brown Hall\, In between St. Clair and New Hall in the quad.
X-ALT-DESC;FMTTYPE=text/html:Ambassadors will host a ribbon cutting celebrating Ann Merrifield&#39\;s 1\,000 Point Ambassador Tree Dedication. Taking place outside\, the Northwest corner of Brown Hall\, In between St. Clair and New Hall in the quad.
LOCATION:Columbia College 1001 Roger St. Columbia MO 65211
UID:e.2790.8023
SEQUENCE:3
DTSTAMP:20260424T102621Z
URL:https://business.comochamber.com/events/details/ribbon-cutting-ambassador-1-000-point-tree-dedication-ann-merrifield-8023
END:VEVENT

END:VCALENDAR
