BEGIN:VCALENDAR
VERSION:2.0
PRODID:-//ChamberMaster//Event Calendar 2.0//EN
METHOD:PUBLISH
X-PUBLISHED-TTL:P3D
REFRESH-INTERVAL:P3D
CALSCALE:GREGORIAN
BEGIN:VEVENT
DTSTART:20240917T221500Z
DTEND:20240917T224500Z
X-MICROSOFT-CDO-ALLDAYEVENT:FALSE
SUMMARY:RIBBON CUTTING: African American Heritage Trail - United Way
DESCRIPTION:Ambassadors will perform a ribbon cutting to dedicate trail marker for African American Heritage Trail.
X-ALT-DESC;FMTTYPE=text/html:Ambassadors will perform a ribbon cutting to dedicate trail marker for African American Heritage Trail.
LOCATION:United Way 105 East Ash St. Columbia\, MO 65201
UID:e.2790.11478
SEQUENCE:3
DTSTAMP:20260421T105112Z
URL:https://business.comochamber.com/events/details/ribbon-cutting-african-american-heritage-trail-united-way-11478
END:VEVENT

END:VCALENDAR
