BEGIN:VCALENDAR
VERSION:2.0
PRODID:-//ChamberMaster//Event Calendar 2.0//EN
METHOD:PUBLISH
X-PUBLISHED-TTL:P3D
REFRESH-INTERVAL:P3D
CALSCALE:GREGORIAN
BEGIN:VEVENT
DTSTART:20240918T220000Z
DTEND:20240918T223000Z
X-MICROSOFT-CDO-ALLDAYEVENT:FALSE
SUMMARY:RIBBON CUTTING: African American Heritage Trail - City of Columbia Parks and Rec Building
DESCRIPTION:Ambassadors will hold a ribbon cutting to dedicate a trail marker for African American Heritage Trail.
X-ALT-DESC;FMTTYPE=text/html:Ambassadors will hold a ribbon cutting to dedicate a trail marker for African American Heritage Trail.
LOCATION:City of Columbia Parks and Rec Building 1 South 7th Street Columbia\, MO 65201
UID:e.2790.11479
SEQUENCE:3
DTSTAMP:20260421T123121Z
URL:https://business.comochamber.com/events/details/ribbon-cutting-african-american-heritage-trail-city-of-columbia-parks-and-rec-building-11479
END:VEVENT

END:VCALENDAR
