BEGIN:VCALENDAR
VERSION:2.0
PRODID:-//ChamberMaster//Event Calendar 2.0//EN
METHOD:PUBLISH
X-PUBLISHED-TTL:P3D
REFRESH-INTERVAL:P3D
CALSCALE:GREGORIAN
BEGIN:VEVENT
DTSTART:20241216T171500Z
DTEND:20241216T174500Z
X-MICROSOFT-CDO-ALLDAYEVENT:FALSE
SUMMARY:RIBBON CUTTING: Advance Services\, Inc
DESCRIPTION:The Ambassadors will perform a ribbon cutting to celebrate the 1 year anniversary of Advance Services\, Inc's Columbia office location.
X-ALT-DESC;FMTTYPE=text/html:The Ambassadors will perform a ribbon cutting to celebrate the 1 year anniversary of Advance Services\, Inc&#39\;s Columbia office location.
LOCATION:1900 Providence RD Suite 202. Columbia\, Missouri 65202
UID:e.2790.11671
SEQUENCE:3
DTSTAMP:20260421T082924Z
URL:https://business.comochamber.com/events/details/ribbon-cutting-advance-services-inc-11671
END:VEVENT

END:VCALENDAR
