BEGIN:VCALENDAR
VERSION:2.0
PRODID:-//ChamberMaster//Event Calendar 2.0//EN
METHOD:PUBLISH
X-PUBLISHED-TTL:P3D
REFRESH-INTERVAL:P3D
CALSCALE:GREGORIAN
BEGIN:VEVENT
DTSTART:20220519T213000Z
DTEND:20220519T220000Z
X-MICROSOFT-CDO-ALLDAYEVENT:FALSE
SUMMARY:RIBBON CUTTING: ACA Business Club
DESCRIPTION:Ambassadors will host a ribbon cutting celebrating the opening of ACA Business Club Expo.
X-ALT-DESC;FMTTYPE=text/html:Ambassadors will host a ribbon cutting celebrating the opening of ACA Business Club Expo.
LOCATION:MU Health Care Pavilion 1769 W Ash St. Ste. D Columbia MO 65201
UID:e.2790.9091
SEQUENCE:3
DTSTAMP:20260423T133648Z
URL:https://business.comochamber.com/events/details/ribbon-cutting-aca-business-club-9091
END:VEVENT

END:VCALENDAR
