BEGIN:VCALENDAR
VERSION:2.0
PRODID:-//ChamberMaster//Event Calendar 2.0//EN
METHOD:PUBLISH
X-PUBLISHED-TTL:P3D
REFRESH-INTERVAL:P3D
CALSCALE:GREGORIAN
BEGIN:VEVENT
DTSTART:20240813T223000Z
DTEND:20240813T230000Z
X-MICROSOFT-CDO-ALLDAYEVENT:FALSE
SUMMARY:RIBBON CUTTING: ACA Business Club
DESCRIPTION:Ambassadors will host a ribbon cutting celebrating ACA Business Clubs 5th Anniversary.
X-ALT-DESC;FMTTYPE=text/html:<span style="font-size:14px\;"><span style="font-family:verdana\;">Ambassadors will host a ribbon cutting celebrating ACA Business Clubs 5th Anniversary.</span></span>
LOCATION:ACA Business Club 204 Peach Way Ste. A Columbia MO 65203
UID:e.2790.11450
SEQUENCE:3
DTSTAMP:20260421T122659Z
URL:https://business.comochamber.com/events/details/ribbon-cutting-aca-business-club-11450
END:VEVENT

END:VCALENDAR
