BEGIN:VCALENDAR
VERSION:2.0
PRODID:-//ChamberMaster//Event Calendar 2.0//EN
METHOD:PUBLISH
X-PUBLISHED-TTL:P3D
REFRESH-INTERVAL:P3D
CALSCALE:GREGORIAN
BEGIN:VEVENT
DTSTART:20241209T160000Z
DTEND:20241209T163000Z
X-MICROSOFT-CDO-ALLDAYEVENT:FALSE
SUMMARY:RIBBON CUTTING: 7Brew
DESCRIPTION:The Ambassadors will perform a ribbon cutting to celebrate the grand opening of 7Brew's second new location in Columbia MO.
X-ALT-DESC;FMTTYPE=text/html:The Ambassadors will perform a ribbon cutting to celebrate the grand opening of 7Brew&#39\;s second new location in Columbia MO.
LOCATION:7Brew 209 S Providence Road Columbia\, MO 65203
UID:e.2790.11653
SEQUENCE:3
DTSTAMP:20260421T061956Z
URL:https://business.comochamber.com/events/details/ribbon-cutting-7brew-11653
END:VEVENT

END:VCALENDAR
