BEGIN:VCALENDAR
VERSION:2.0
PRODID:-//ChamberMaster//Event Calendar 2.0//EN
METHOD:PUBLISH
X-PUBLISHED-TTL:P3D
REFRESH-INTERVAL:P3D
CALSCALE:GREGORIAN
BEGIN:VEVENT
DTSTART:20210106T220000Z
DTEND:20210106T223000Z
X-MICROSOFT-CDO-ALLDAYEVENT:FALSE
SUMMARY:RIBBON CUTTING: 4 Points Catering
DESCRIPTION:Ambassadors will host a ribbon cutting celebrating 4 Points Catering's new Chamber membership and the opening of their new location.
X-ALT-DESC;FMTTYPE=text/html:<span style="font-size:14px\;"><span style="font-family:verdana\;">Ambassadors will host a ribbon cutting celebrating 4 Points Catering&#39\;s new Chamber membership and the opening of their new location.</span></span>
LOCATION:4 Points Catering 2011 Corona Rd. Ste. 101 Columbia MO 65203 WEDNESDAY\, JANUARY 6 Event Start: 4 p.m. Ribbon cutting to follow + 4 Points Catering Celebrating New Chamber membership and opening of their new location Virtual: Join Zoom Meeting https://us02web.zoom.us/j/84888527517 Meeting ID: 848 8852 7517 Dial by your location +1 312 626 6799 US (Chicago)
UID:e.2790.7912
SEQUENCE:3
DTSTAMP:20260424T183144Z
URL:https://business.comochamber.com/events/details/ribbon-cutting-4-points-catering-7912
END:VEVENT

END:VCALENDAR
