BEGIN:VCALENDAR
VERSION:2.0
PRODID:-//ChamberMaster//Event Calendar 2.0//EN
METHOD:PUBLISH
X-PUBLISHED-TTL:P3D
REFRESH-INTERVAL:P3D
CALSCALE:GREGORIAN
BEGIN:VEVENT
DTSTART:20240501T220000Z
DTEND:20240501T223000Z
X-MICROSOFT-CDO-ALLDAYEVENT:FALSE
SUMMARY:RIBBON CUTTIN: Memorial Funeral Home and Memorial Park Cemetery
DESCRIPTION:Ambassadors will host a ribbon cutting celebrating Memorial Funeral Home and Memorial Park Cemetery's grand opening of the new Tranquility Garden.
X-ALT-DESC;FMTTYPE=text/html:<span style="font-size:14px\;"><span style="font-family:verdana\;">Ambassadors will host a ribbon cutting celebrating Memorial Funeral Home and Memorial Park Cemetery&#39\;s grand opening of the new Tranquility Garden.</span></span>
LOCATION:Memorial Park Cemetery 1217 Business Loop 70 W Columbia MO 65202
UID:e.2790.11238
SEQUENCE:3
DTSTAMP:20260421T205847Z
URL:https://business.comochamber.com/events/details/ribbon-cuttin-memorial-funeral-home-and-memorial-park-cemetery-11238
END:VEVENT

END:VCALENDAR
