BEGIN:VCALENDAR
VERSION:2.0
PRODID:-//ChamberMaster//Event Calendar 2.0//EN
METHOD:PUBLISH
X-PUBLISHED-TTL:P3D
REFRESH-INTERVAL:P3D
CALSCALE:GREGORIAN
BEGIN:VEVENT
DTSTART:20240823T180000Z
DTEND:20240823T183000Z
X-MICROSOFT-CDO-ALLDAYEVENT:FALSE
SUMMARY:RIBBON CUTING: Columbia Board of Education
DESCRIPTION:Ambassadors will host a ribbon cutting celebrating Columbia School Board of Education's Boone County Nature School Dedication.
X-ALT-DESC;FMTTYPE=text/html:<span style="font-size:14px\;"><span style="font-family:verdana\;">Ambassadors will host a ribbon cutting celebrating Columbia School Board of Education&#39\;s Boone County Nature School Dedication.</span></span>
LOCATION:Boone County Nature School 8989 South Tom Bass Rd. Columbia MO 65203
UID:e.2790.11462
SEQUENCE:3
DTSTAMP:20260421T122843Z
URL:https://business.comochamber.com/events/details/ribbon-cuting-columbia-board-of-education-11462
END:VEVENT

END:VCALENDAR
