BEGIN:VCALENDAR
VERSION:2.0
PRODID:-//ChamberMaster//Event Calendar 2.0//EN
METHOD:PUBLISH
X-PUBLISHED-TTL:P3D
REFRESH-INTERVAL:P3D
CALSCALE:GREGORIAN
BEGIN:VEVENT
DTSTART:20220219T031500Z
DTEND:20220219T034500Z
X-MICROSOFT-CDO-ALLDAYEVENT:FALSE
SUMMARY:RIBBION CUTTING: Cumulus Media Inc.
DESCRIPTION:Ambassadors will host a ribbon cutting for Cumulus Media Inc. celebrating KFRU's David Lile retirement.
X-ALT-DESC;FMTTYPE=text/html:<span style="font-size:14px\;"><span style="font-family:verdana\;">Ambassadors will host a ribbon cutting for Cumulus Media Inc. celebrating KFRU&#39\;s David Lile retirement.</span></span>
LOCATION:Cumulus Media KFRU Radio 503 Old 63 North Columbia MO 65201
UID:e.2790.8666
SEQUENCE:3
DTSTAMP:20260423T181609Z
URL:https://business.comochamber.com/events/details/ribbion-cutting-cumulus-media-inc-8666
END:VEVENT

END:VCALENDAR
