BEGIN:VCALENDAR
VERSION:2.0
PRODID:-//ChamberMaster//Event Calendar 2.0//EN
METHOD:PUBLISH
X-PUBLISHED-TTL:P3D
REFRESH-INTERVAL:P3D
CALSCALE:GREGORIAN
BEGIN:VEVENT
DTSTART:20240409T130000Z
DTEND:20240409T143000Z
X-MICROSOFT-CDO-ALLDAYEVENT:FALSE
SUMMARY:New Member Meet & Greet - April 2024
DESCRIPTION:New Member Meet and Greet April 2024
X-ALT-DESC;FMTTYPE=text/html:New Member Meet and Greet April 2024
LOCATION:Solstice Senior Living
UID:e.2790.11236
SEQUENCE:3
DTSTAMP:20260421T223210Z
URL:https://business.comochamber.com/events/details/new-member-meet-greet-april-2024-11236
END:VEVENT

END:VCALENDAR
