BEGIN:VCALENDAR
VERSION:2.0
PRODID:-//ChamberMaster//Event Calendar 2.0//EN
METHOD:PUBLISH
X-PUBLISHED-TTL:P3D
REFRESH-INTERVAL:P3D
CALSCALE:GREGORIAN
BEGIN:VEVENT
DTSTART:20250324T233000Z
DTEND:20250325T003000Z
X-MICROSOFT-CDO-ALLDAYEVENT:FALSE
SUMMARY:Mayoral Debate April 2025
DESCRIPTION:Join the Columbia Chamber of Commerce as we learn more about the candidates seeking election for the Mayoral seat. This event is being held in partnership with KOMU and will be aired live on KOMU 8 from 6:30 to 7 p.m. at which time it will move to being streamed online from 7 to 7:30 p.m. \n\n\n\nWe look forward to being joined by current Mayor and Incumbent candidate Barbara Buffaloe\, as well as candidate Blair Murphy and candidate Tanya Heath. \n\n\n\nRecorded Link at KOMU 8- https://www.komu.com/news/elections/columbia_mayoral_debate_2025/\n\n\n\n \n\n\n\n \n\n\nPlay Video\n\n \n\n\n \n\n\n\n \n\n \n\n\n \n\n\n\n \n\n\nflowplayer\n\n00:00 00:00\n\n\n \n\n \n\n\n\n\n\n\n\\
X-ALT-DESC;FMTTYPE=text/html:<span style="font-family: verdana\; font-size: 14px\;">Join the Columbia Chamber of Commerce as we learn more about the candidates seeking election for the Mayoral seat. This event is being held in partnership with KOMU and will be aired live on KOMU 8 from 6:30 to 7 p.m. at which time it will move to being streamed online from 7 to 7:30 p.m.&nbsp\;<br />\n<br />\nWe look forward to being joined by current Mayor and Incumbent candidate Barbara Buffaloe\, as well as candidate Blair Murphy and candidate Tanya Heath.&nbsp\;<br />\n<br />\nRecorded Link at KOMU 8-</span><span style="font-family:aptos\,sans-serif\;"><span style="font-size:12.0pt\;">&nbsp\;<a href="https://www.komu.com/news/elections/columbia_mayoral_debate_2025/">https://www.komu.com/news/elections/columbia_mayoral_debate_2025/</a></span></span><br />\n<br />\n&nbsp\;\n<div align="center"><script src="https://player.field59.com/v4/playlist/komu/64995f209be58450619b98a8045f97dc9e8bf51e"></script>\n<div class="f59-video f59-plbottom f59-blk">\n<div class="f59-main f59-blk flowplayer is-splash is-mouseout is-paused" data-flowplayer-instance-id="0" data-node-uid="1" id="f59-64995f209be58450619b98a8045f97dc9e8bf51e" style="background-image: url(https://cdn.field59.com/KOMU/992becc5e0841234263b6ebbc7eaf9755a158115.jpg)\;">\n<div class="fp-ratio" style="padding-top: 56.25%\;">&nbsp\;</div>\n\n<div class="fp-player">\n<div class="fp-ui" title="Hit ? for help"><button class="fp-playbutton" title="Play Video" type="button"><span class="fp-playbutton-text">Play Video</span></button>\n\n<div class="fp-waiting">&nbsp\;</div>\n\n\n<p class="fp-speed">&nbsp\;</p>\n\n<div class="fp-controls">\n<div class="fp-timeline">\n<div class="fp-buffer">&nbsp\;</div>\n\n<div class="fp-progress animated" style="transition-duration: 0ms\; width: 0%\;">&nbsp\;</div>\n</div>\n\n<div class="fp-timeline-tooltip fp-tooltip">&nbsp\;</div>\n\n<div class="fp-volume">\n<div class="fp-volumeslider">\n<div class="fp-volumelevel">&nbsp\;</div>\n</div>\n</div>\n<a class="fp-brand" href="http://flowplayer.org">flowplayer</a></div>\n\n<div class="fp-time"><em class="fp-elapsed">00:00</em> <em class="fp-duration">00:00</em></div>\n\n<div class="fp-message">\n<h2>&nbsp\;</h2>\n\n<p>&nbsp\;</p>\n</div>\n</div>\n\n<div class="fp-help"><i></i>\n\n<div class="fp-help-section fp-help-basics">\n<p><i>\\</i></p>\n</div>\n</div>\n</div>\n</div>\n</div>\n</div>\n
LOCATION:This event is being held in partnership with KOMU and will be aired live on KOMU 8 from 6:30 to 7 p.m. at which time it will move to being streamed online from 7 to 7:30 p.m.
UID:e.2790.12002
SEQUENCE:3
DTSTAMP:20260421T015137Z
URL:https://business.comochamber.com/events/details/mayoral-debate-april-2025-12002
END:VEVENT

END:VCALENDAR
