BEGIN:VCALENDAR
VERSION:2.0
PRODID:-//ChamberMaster//Event Calendar 2.0//EN
METHOD:PUBLISH
X-PUBLISHED-TTL:P3D
REFRESH-INTERVAL:P3D
CALSCALE:GREGORIAN
BEGIN:VEVENT
DTSTART:20240530T150000Z
DTEND:20240530T170000Z
X-MICROSOFT-CDO-ALLDAYEVENT:FALSE
SUMMARY:Leadership Retreat Orientation
DESCRIPTION:2024 Leadership Retreat Orientation:\n\n\n\nPlease add to your calendar\, more details to follow as logistics are finished. \n\n Location Information was sent out on Friday\, April 29\, 2024.\n\n \n\nLeadership Orientation: This is an orientation for all incoming board members and incoming committee chairs.\n\nDate and Time: May 30th from 10:00 a.m.   12:00 p.m. (It usually does not take 2 hours\, but we schedule that long just in case) \n\n	Walton Building 300 S. Providence. Held in the Community Room.\n\n Please RSVP to Lakeela in our office at lakeela@comochamber.com
X-ALT-DESC;FMTTYPE=text/html:2024 Leadership Retreat Orientation:<br />\n<br />\n<span style="font-family:arial\,sans-serif\;"><span style="font-size:12.0pt\;">Please add to your calendar\, more details to follow as logistics are finished. </span></span><br />\n&nbsp\;<span style="font-family:arial\,sans-serif\;"><span style="font-size:12.0pt\;">Location Information was sent out on Friday\, April 29\, 2024.</span></span><br />\n&nbsp\;<br />\n<strong><span style="font-family:arial\,sans-serif\;"><span style="font-size:12.0pt\;">Leadership Orientation</span></span></strong><span style="font-family:arial\,sans-serif\;"><span style="font-size:12.0pt\;">: This is an orientation for all incoming board members and incoming committee chairs.</span></span><br />\n<strong><span style="font-family:arial\,sans-serif\;"><span style="font-size:12.0pt\;">Date and Time:</span></span></strong><span style="font-family:arial\,sans-serif\;"><span style="font-size:12.0pt\;"> May 30<sup>th</sup> from 10:00 a.m. &ndash\; 12:00 p.m. (It usually does not take 2 hours\, but we schedule that long just in case) </span></span>\n<ul style="list-style-type:circle\;">\n	<li><span style="font-family:arial\,sans-serif\;"><span style="font-size:12.0pt\;">Walton Building 300 S. Providence. Held in the Community Room.</span></span></li>\n</ul>\n&nbsp\;<strong><span style="font-family:arial\,sans-serif\;"><span style="font-size:12.0pt\;">Please RSVP to Lakeela</span></span></strong><span style="font-family:arial\,sans-serif\;"><span style="font-size:12.0pt\;"> in our office at <a href="mailto:lakeela@comochamber.com">lakeela@comochamber.com</a></span></span><br />\n&nbsp\;
LOCATION:
UID:e.2790.11256
SEQUENCE:3
DTSTAMP:20260421T221326Z
URL:https://business.comochamber.com/events/details/leadership-retreat-orientation-11256
END:VEVENT

END:VCALENDAR
