BEGIN:VCALENDAR
VERSION:2.0
PRODID:-//ChamberMaster//Event Calendar 2.0//EN
METHOD:PUBLISH
X-PUBLISHED-TTL:P3D
REFRESH-INTERVAL:P3D
CALSCALE:GREGORIAN
BEGIN:VEVENT
DTSTART;VALUE=DATE:20250130
DTEND;VALUE=DATE:20250201
TRANSP:TRANSPARENT
X-MICROSOFT-CDO-ALLDAYEVENT:TRUE
SUMMARY:Leadership Columbia Overnight Retreat
DESCRIPTION:This is for those who are planning on staying overnight at the retreat. This is HIGHLY recommended. (Even if you live in Columbia)
X-ALT-DESC;FMTTYPE=text/html:This is for those who are planning on staying overnight at the retreat. This is HIGHLY recommended. (Even if you live in Columbia)
LOCATION:The Broadway Hotel
UID:e.2790.11673
SEQUENCE:3
DTSTAMP:20260421T052512Z
URL:https://business.comochamber.com/events/details/leadership-columbia-overnight-retreat-11673
END:VEVENT

END:VCALENDAR
