BEGIN:VCALENDAR
VERSION:2.0
PRODID:-//ChamberMaster//Event Calendar 2.0//EN
METHOD:PUBLISH
X-PUBLISHED-TTL:P3D
REFRESH-INTERVAL:P3D
CALSCALE:GREGORIAN
BEGIN:VEVENT
DTSTART:20251029T171500Z
DTEND:20251029T171500Z
X-MICROSOFT-CDO-ALLDAYEVENT:FALSE
SUMMARY:LaCrosse Lumber Company
DESCRIPTION:The Ambassadors will perform a ribbon cutting to celebrate the Grand Re-Opening of the Columbia store.
X-ALT-DESC;FMTTYPE=text/html:The Ambassadors will perform a ribbon cutting to celebrate the Grand Re-Opening of the Columbia store.&nbsp\;
LOCATION:3408 Grindstone Pkwy Columbia MO 65201
UID:e.2790.12267
SEQUENCE:3
DTSTAMP:20260420T160847Z
URL:https://business.comochamber.com/events/details/lacrosse-lumber-company-12267
END:VEVENT

END:VCALENDAR
