BEGIN:VCALENDAR
VERSION:2.0
PRODID:-//ChamberMaster//Event Calendar 2.0//EN
METHOD:PUBLISH
X-PUBLISHED-TTL:P3D
REFRESH-INTERVAL:P3D
CALSCALE:GREGORIAN
BEGIN:VEVENT
DTSTART:20200226T233000Z
DTEND:20200227T010000Z
X-MICROSOFT-CDO-ALLDAYEVENT:FALSE
SUMMARY:Greece - Land of Gods and Heroes Trip Informational Meeting
DESCRIPTION:On this splendid cultural journey\, trace 5\,000 years of Greek history while exploring the country's archeological treasures. Walk in the footsteps of Socrates on the Acropolis and examine artifacts of Athens' Golden Age at the outstanding Acropolis Museum\, sail through the scenic Corinth canal\, and enjoy the insights of the local guest speaker on the contemporary Greek economic and social scene.\n\n\n\nThe trip will take place November 7 - 15\, 2020\, 9 days\, 7 nights.
X-ALT-DESC;FMTTYPE=text/html:<span style="color: rgb(60\, 72\, 88)\; font-family: Arial\, Helvetica\, sans-serif\; font-size: 14px\; background-color: rgb(255\, 255\, 255)\;">On this splendid cultural journey\, trace 5\,000 years of Greek history while exploring the country&#39\;s archeological treasures. Walk in the footsteps of Socrates on the Acropolis and examine artifacts of Athens&#39\; Golden Age at the outstanding Acropolis Museum\, sail through the scenic Corinth canal\, and enjoy the insights of the local guest speaker on the contemporary Greek economic and social scene.<br />\n<br />\nThe trip will take place November 7 - 15\, 2020\, 9 days\, 7 nights.</span>
LOCATION:We will be having an informational meeting about this opportunity at the Walton Building\, located at 300 South Providence Road in Columbia\, MO.
UID:e.2790.7061
SEQUENCE:3
DTSTAMP:20260426T014431Z
URL:https://business.comochamber.com/events/details/greece-land-of-gods-and-heroes-trip-informational-meeting-7061
END:VEVENT

END:VCALENDAR
