BEGIN:VCALENDAR
VERSION:2.0
PRODID:-//ChamberMaster//Event Calendar 2.0//EN
METHOD:PUBLISH
X-PUBLISHED-TTL:P3D
REFRESH-INTERVAL:P3D
CALSCALE:GREGORIAN
BEGIN:VEVENT
DTSTART:20240607T140000Z
DTEND:20240607T190000Z
X-MICROSOFT-CDO-ALLDAYEVENT:FALSE
SUMMARY:EPIC Service Project - Coyote Hill
DESCRIPTION:Coyote Hill is hosting the Hope for the Journey Conference on Friday\, June 7th at Forum Christian Church. This is a vital event dedicated to encouraging and equipping those supporting children impacted by trauma\, foster care\, and adoption.\n\n \n\nWe are looking for volunteers to assist in various roles and time commitments. We need help with setting up and decorating on from 9:00 AM to 2:00 PM (lunch provided). Additionally\, volunteers are needed for roles like welcoming attendees\, serving snacks\, and managing the merchandise table throughout the event.\n\n\n\nEMAIL JDRAKE@COLUMBIAMOCHAMBER.COM to RSVP. \n\n \n\nDivision Sponsor : Rusty Drewing Automotive\n\n \n\nService Project Presenting Sponsor : Valerie Ninichuck - Shelter Insurance
X-ALT-DESC;FMTTYPE=text/html:<p style="margin: 0px\; padding: 0px\; color: rgb(45\, 44\, 46)\; font-family: Roboto\, sans-serif\; font-size: 14px\;"><span style="border: 0px\; font-style: inherit\; font-variant: inherit\; font-weight: inherit\; font-stretch: inherit\; font-size: 16px\; line-height: inherit\; font-family: inherit\; font-optical-sizing: inherit\; font-kerning: inherit\; font-feature-settings: inherit\; font-variation-settings: inherit\; margin: 0px\; padding: 0px\; vertical-align: baseline\; color: inherit\;">Coyote Hill is hosting the Hope for the Journey Conference on Friday\, June 7th at Forum Christian Church. This is a vital event dedicated to encouraging and equipping those supporting children impacted by trauma\, foster care\, and adoption.</span></p>\n\n<p style="margin: 0px\; padding: 0px\; color: rgb(45\, 44\, 46)\; font-family: Roboto\, sans-serif\; font-size: 14px\;"><span style="border: 0px\; font-style: inherit\; font-variant: inherit\; font-weight: inherit\; font-stretch: inherit\; font-size: 16px\; line-height: inherit\; font-family: inherit\; font-optical-sizing: inherit\; font-kerning: inherit\; font-feature-settings: inherit\; font-variation-settings: inherit\; margin: 0px\; padding: 0px\; vertical-align: baseline\; color: inherit\;">&#65279\;</span></p>\n\n<p style="margin: 0px\; padding: 0px\; color: rgb(45\, 44\, 46)\; font-family: Roboto\, sans-serif\; font-size: 14px\;"><span style="border: 0px\; font-style: inherit\; font-variant: inherit\; font-weight: inherit\; font-stretch: inherit\; font-size: 16px\; line-height: inherit\; font-family: inherit\; font-optical-sizing: inherit\; font-kerning: inherit\; font-feature-settings: inherit\; font-variation-settings: inherit\; margin: 0px\; padding: 0px\; vertical-align: baseline\; color: inherit\;">We are looking for volunteers to assist in various roles and time commitments. We need help with setting up and decorating on from 9:00 AM to 2:00 PM (lunch provided). Additionally\, volunteers are needed for roles like welcoming attendees\, serving snacks\, and managing the merchandise table throughout the event.<br />\n<br />\nEMAIL JDRAKE@COLUMBIAMOCHAMBER.COM to RSVP.&nbsp\;</span></p>\n\n<p style="margin: 0px\; padding: 0px\; color: rgb(45\, 44\, 46)\; font-family: Roboto\, sans-serif\; font-size: 14px\;">&nbsp\;</p>\n\n<p style="margin: 0px\; padding: 0px\; color: rgb(45\, 44\, 46)\; font-family: Roboto\, sans-serif\; font-size: 14px\;"><span style="border: 0px\; font-style: inherit\; font-variant: inherit\; font-weight: inherit\; font-stretch: inherit\; font-size: 16px\; line-height: inherit\; font-family: inherit\; font-optical-sizing: inherit\; font-kerning: inherit\; font-feature-settings: inherit\; font-variation-settings: inherit\; margin: 0px\; padding: 0px\; vertical-align: baseline\; color: rgb(2\, 0\, 0)\;">Division Sponsor&nbsp\;: Rusty Drewing Automotive</span></p>\n\n<p style="margin: 0px\; padding: 0px\; color: rgb(45\, 44\, 46)\; font-family: Roboto\, sans-serif\; font-size: 14px\;">&nbsp\;</p>\n\n<p style="margin: 0px\; padding: 0px\; color: rgb(45\, 44\, 46)\; font-family: Roboto\, sans-serif\; font-size: 14px\;"><span style="border: 0px\; font-style: inherit\; font-variant: inherit\; font-weight: inherit\; font-stretch: inherit\; font-size: 16px\; line-height: inherit\; font-family: inherit\; font-optical-sizing: inherit\; font-kerning: inherit\; font-feature-settings: inherit\; font-variation-settings: inherit\; margin: 0px\; padding: 0px\; vertical-align: baseline\; color: rgb(2\, 0\, 0)\;">Service Project Presenting Sponsor&nbsp\;: Valerie Ninichuck - Shelter Insurance</span></p>\n
LOCATION:Forum Christian Church
UID:e.2790.11395
SEQUENCE:3
DTSTAMP:20260421T190906Z
URL:https://business.comochamber.com/events/details/epic-service-project-coyote-hill-11395
END:VEVENT

END:VCALENDAR
