BEGIN:VCALENDAR
VERSION:2.0
PRODID:-//ChamberMaster//Event Calendar 2.0//EN
METHOD:PUBLISH
X-PUBLISHED-TTL:P3D
REFRESH-INTERVAL:P3D
CALSCALE:GREGORIAN
BEGIN:VEVENT
DTSTART:20240625T220000Z
DTEND:20240626T003000Z
X-MICROSOFT-CDO-ALLDAYEVENT:FALSE
SUMMARY:EPIC Service Project - Big Brothers Big Sisters
DESCRIPTION:Join us for a heartwarming service project with Big Brothers Big Sisters on June 25th from 5pm to 7:30pm at the Albert-Oakland Aquatic Center.\n\n \n\nWe'll be participating in the Big Brothers Big Sisters Match Event\, an opportunity for current Big Brothers & Big Sisters and their "Littles" to socialize and connect\, while also allowing prospective "Bigs" to meet "Littles in Waiting" - children who are still waiting for a mentor.\n\n \n\nVolunteers are needed to help pass out pizza\, drinks\, greet guests\, and hang out with the "Littles in Waiting" in attendance. Plus\, feel free to bring your swimsuit and enjoy some pool time!\n\n\n\nEMAIL JDRAKE@COLUMBIAMOCHAMBER.COM TO RSVP.\n\n \n\nDivision Sponsor : Rusty Drewing Automotive\n\n \n\nService Project Presenting Sponsor : Valerie Ninichuck - Shelter Insurance
X-ALT-DESC;FMTTYPE=text/html:<p style="margin: 0px\; padding: 0px\; color: rgb(45\, 44\, 46)\; font-family: Roboto\, sans-serif\; font-size: 14px\;"><span style="border: 0px\; font-style: inherit\; font-variant: inherit\; font-weight: inherit\; font-stretch: inherit\; font-size: 16px\; line-height: inherit\; font-family: inherit\; font-optical-sizing: inherit\; font-kerning: inherit\; font-feature-settings: inherit\; font-variation-settings: inherit\; margin: 0px\; padding: 0px\; vertical-align: baseline\; color: rgb(2\, 0\, 0) !important\;">Join us for a heartwarming service project with Big Brothers Big Sisters on June 25th from 5pm to 7:30pm at the Albert-Oakland Aquatic Center.</span></p>\n\n<p style="margin: 0px\; padding: 0px\; color: rgb(45\, 44\, 46)\; font-family: Roboto\, sans-serif\; font-size: 14px\;"><span style="border: 0px\; font-style: inherit\; font-variant: inherit\; font-weight: inherit\; font-stretch: inherit\; font-size: 16px\; line-height: inherit\; font-family: inherit\; font-optical-sizing: inherit\; font-kerning: inherit\; font-feature-settings: inherit\; font-variation-settings: inherit\; margin: 0px\; padding: 0px\; vertical-align: baseline\; color: rgb(2\, 0\, 0) !important\;">&#65279\;</span></p>\n\n<p style="margin: 0px\; padding: 0px\; color: rgb(45\, 44\, 46)\; font-family: Roboto\, sans-serif\; font-size: 14px\;"><span style="border: 0px\; font-style: inherit\; font-variant: inherit\; font-weight: inherit\; font-stretch: inherit\; font-size: 16px\; line-height: inherit\; font-family: inherit\; font-optical-sizing: inherit\; font-kerning: inherit\; font-feature-settings: inherit\; font-variation-settings: inherit\; margin: 0px\; padding: 0px\; vertical-align: baseline\; color: rgb(2\, 0\, 0) !important\;">We&#39\;ll be participating in the Big Brothers Big Sisters Match Event\, an opportunity for current Big Brothers &amp\; Big Sisters and their &quot\;Littles&quot\; to socialize and connect\, while also allowing prospective &quot\;Bigs&quot\; to meet &quot\;Littles in Waiting&quot\; - children who are still waiting for a mentor.</span></p>\n\n<p style="margin: 0px\; padding: 0px\; color: rgb(45\, 44\, 46)\; font-family: Roboto\, sans-serif\; font-size: 14px\;">&nbsp\;</p>\n\n<p style="margin: 0px\; padding: 0px\; color: rgb(45\, 44\, 46)\; font-family: Roboto\, sans-serif\; font-size: 14px\;"><span style="border: 0px\; font-style: inherit\; font-variant: inherit\; font-weight: inherit\; font-stretch: inherit\; font-size: 16px\; line-height: inherit\; font-family: inherit\; font-optical-sizing: inherit\; font-kerning: inherit\; font-feature-settings: inherit\; font-variation-settings: inherit\; margin: 0px\; padding: 0px\; vertical-align: baseline\; color: rgb(2\, 0\, 0) !important\;">Volunteers are needed to help pass out pizza\, drinks\, greet guests\, and hang out with the &quot\;Littles in Waiting&quot\; in attendance. Plus\, feel free to bring your swimsuit and enjoy some pool time!</span></p>\n\n<p style="margin: 0px\; padding: 0px\; color: rgb(45\, 44\, 46)\; font-family: Roboto\, sans-serif\; font-size: 14px\;"><br />\nEMAIL JDRAKE@COLUMBIAMOCHAMBER.COM TO RSVP.</p>\n\n<p style="margin: 0px\; padding: 0px\; color: rgb(45\, 44\, 46)\; font-family: Roboto\, sans-serif\; font-size: 14px\;">&nbsp\;</p>\n\n<p style="margin: 0px\; padding: 0px\; color: rgb(45\, 44\, 46)\; font-family: Roboto\, sans-serif\; font-size: 14px\;"><span style="border: 0px\; font-style: inherit\; font-variant: inherit\; font-weight: inherit\; font-stretch: inherit\; font-size: 16px\; line-height: inherit\; font-family: inherit\; font-optical-sizing: inherit\; font-kerning: inherit\; font-feature-settings: inherit\; font-variation-settings: inherit\; margin: 0px\; padding: 0px\; vertical-align: baseline\; color: rgb(2\, 0\, 0) !important\;">Division Sponsor&nbsp\;: Rusty Drewing Automotive</span></p>\n\n<p style="margin: 0px\; padding: 0px\; color: rgb(45\, 44\, 46)\; font-family: Roboto\, sans-serif\; font-size: 14px\;">&nbsp\;</p>\n\n<p style="margin: 0px\; padding: 0px\; color: rgb(45\, 44\, 46)\; font-family: Roboto\, sans-serif\; font-size: 14px\;"><span style="border: 0px\; font-style: inherit\; font-variant: inherit\; font-weight: inherit\; font-stretch: inherit\; font-size: 16px\; line-height: inherit\; font-family: inherit\; font-optical-sizing: inherit\; font-kerning: inherit\; font-feature-settings: inherit\; font-variation-settings: inherit\; margin: 0px\; padding: 0px\; vertical-align: baseline\; color: rgb(2\, 0\, 0) !important\;">Service Project Presenting Sponsor&nbsp\;: Valerie Ninichuck - Shelter Insurance</span></p>\n
LOCATION:Albert-Oakland Aquatic Center
UID:e.2790.11396
SEQUENCE:3
DTSTAMP:20260421T191037Z
URL:https://business.comochamber.com/events/details/epic-service-project-big-brothers-big-sisters-11396
END:VEVENT

END:VCALENDAR
