BEGIN:VCALENDAR
VERSION:2.0
PRODID:-//ChamberMaster//Event Calendar 2.0//EN
METHOD:PUBLISH
X-PUBLISHED-TTL:P3D
REFRESH-INTERVAL:P3D
CALSCALE:GREGORIAN
BEGIN:VEVENT
DTSTART:20251120T173000Z
DTEND:20251120T190000Z
X-MICROSOFT-CDO-ALLDAYEVENT:FALSE
SUMMARY:EPIC Professional Development Lunch
DESCRIPTION:MONEY MOVES: Making the Most of Your Paycheck\n\nJoin EPIC for an engaging professional luncheon all about financial wellness and empowerment!   \n\nWe'll dive into real-world ways to maximize your paycheck\, save smarter\, and build lasting financial confidence. Hear directly from EPIC members in the banking and finance industries\, share your own experiences\, and walk away with practical strategies you can use right away.\n\n  Thursday\, November 20\n\n  11:30 AM   1:00 PM\n\n  Woodhaven | 1405 Hathman Pl\n\nWhether you're just getting started or refining your financial goals\, this event will help you make all the right moves.  \n\n   RSVP today at www.epiccomo.com\n\nThank you to our sponsors:\n\n  Division Sponsor: First Midwest Bank\n\n  Presenting Sponsor: Stephanie Wilmsmeyer   State Farm\n\n#EPICComo #MoneyMoves #ProfessionalLuncheon #FinancialWellness #YoungProfessionals #ColumbiaMO
X-ALT-DESC;FMTTYPE=text/html:<div style="text-align: center\;">\n<p data-end="263" data-start="209">&#128188\; <strong data-end="261" data-start="212">MONEY MOVES: Making the Most of Your Paycheck</strong></p>\n\n<p data-end="368" data-start="265">Join EPIC for an engaging professional luncheon all about <strong data-end="361" data-start="323">financial wellness and empowerment</strong>! &#127974\;&#10024\;</p>\n\n<p data-end="651" data-start="370">We&rsquo\;ll dive into real-world ways to <strong data-end="431" data-start="405">maximize your paycheck</strong>\, save smarter\, and build lasting financial confidence. Hear directly from EPIC members in the banking and finance industries\, share your own experiences\, and walk away with practical strategies you can use right away.</p>\n\n<p data-end="748" data-start="653">&#128197\; <strong data-end="681" data-start="656">Thursday\, November 20</strong><br data-end="684" data-start="681" />\n&#128358\; <strong data-end="709" data-start="687">11:30 AM &ndash\; 1:00 PM</strong><br data-end="712" data-start="709" />\n&#128205\; <strong data-end="746" data-start="715">Woodhaven | 1405 Hathman Pl</strong></p>\n\n<p data-end="875" data-start="750">Whether you&rsquo\;re just getting started or refining your financial goals\, this event will help you make all the right moves. &#128176\;</p>\n\n<p data-end="941" data-start="877">&#127903\;&#65039\; RSVP today at <a class="decorated-link cursor-pointer" data-end="939" data-start="895" rel="noopener" target="_new">www.epiccomo.com<span aria-hidden="true" class="ms-0.5 inline-block align-middle leading-none"><svg class="block h-[0.75em] w-[0.75em] stroke-current stroke-[0.75]" data-rtl-flip="" fill="currentColor" height="20" viewbox="0 0 20 20" width="20" xmlns="http://www.w3.org/2000/svg"><path d="M14.3349 13.3301V6.60645L5.47065 15.4707C5.21095 15.7304 4.78895 15.7304 4.52925 15.4707C4.26955 15.211 4.26955 14.789 4.52925 14.5293L13.3935 5.66504H6.66011C6.29284 5.66504 5.99507 5.36727 5.99507 5C5.99507 4.63273 6.29284 4.33496 6.66011 4.33496H14.9999L15.1337 4.34863C15.4369 4.41057 15.665 4.67857 15.665 5V13.3301C15.6649 13.6973 15.3672 13.9951 14.9999 13.9951C14.6327 13.9951 14.335 13.6973 14.3349 13.3301Z"></path></svg></span></a></p>\n\n<p data-end="1078" data-start="943">Thank you to our sponsors:<br data-end="972" data-start="969" />\n&#10024\; <strong data-end="995" data-start="974">Division Sponsor:</strong> First Midwest Bank<br data-end="1017" data-start="1014" />\n&#10024\; <strong data-end="1042" data-start="1019">Presenting Sponsor:</strong> Stephanie Wilmsmeyer &ndash\; State Farm</p>\n\n<p data-end="1176" data-start="1080">#EPICComo #MoneyMoves #ProfessionalLuncheon #FinancialWellness #YoungProfessionals #ColumbiaMO</p>\n</div>\n
LOCATION:
UID:e.2790.12272
SEQUENCE:3
DTSTAMP:20260420T165356Z
URL:https://business.comochamber.com/events/details/epic-professional-development-lunch-12272
END:VEVENT

END:VCALENDAR
