BEGIN:VCALENDAR
VERSION:2.0
PRODID:-//ChamberMaster//Event Calendar 2.0//EN
METHOD:PUBLISH
X-PUBLISHED-TTL:P3D
REFRESH-INTERVAL:P3D
CALSCALE:GREGORIAN
BEGIN:VEVENT
DTSTART:20240605T123000Z
DTEND:20240605T140000Z
X-MICROSOFT-CDO-ALLDAYEVENT:FALSE
SUMMARY:EPIC Pop Up Coffee
DESCRIPTION:Join us for our last PopUp Coffee of the fiscal year. Stop in for your favorite morning beverage!
X-ALT-DESC;FMTTYPE=text/html:Join us for our last PopUp Coffee of the fiscal year. Stop in for your favorite morning beverage!&nbsp\;
LOCATION:Just Love Coffee-Crossroads
UID:e.2790.11394
SEQUENCE:3
DTSTAMP:20260421T185912Z
URL:https://business.comochamber.com/events/details/epic-pop-up-coffee-11394
END:VEVENT

END:VCALENDAR
