BEGIN:VCALENDAR
VERSION:2.0
PRODID:-//ChamberMaster//Event Calendar 2.0//EN
METHOD:PUBLISH
X-PUBLISHED-TTL:P3D
REFRESH-INTERVAL:P3D
CALSCALE:GREGORIAN
BEGIN:VEVENT
DTSTART:20250318T213000Z
DTEND:20250318T230000Z
X-MICROSOFT-CDO-ALLDAYEVENT:FALSE
SUMMARY:EPIC New Member Welcome
DESCRIPTION:Calling all young professionals! If you've joined EPIC within the past six months\, come by to find out all the ways to take advantage of your EPIC membership. Or\, if you're interested in joining EPIC\, come by and find out everything associated with being a member. Current EPIC member are encouraged to come and mingle with our new members!\n\n\n\nWhile this event is free\, advanced registration is encouraged. First drink on us! \n\n\n\nThank you to our Division Sponsor FIRST MIDWEST BANK and our Presenting Sponsor SOLVENTUM
X-ALT-DESC;FMTTYPE=text/html:Calling all young professionals! If you&#39\;ve joined EPIC within the past six months\, come by to find out all the ways to take advantage of your EPIC membership. Or\, if you&#39\;re interested in joining EPIC\, come by and find out everything associated with being a member. Current EPIC member are encouraged to come and mingle with our new members!<br />\n<br />\nWhile this event is free\, advanced registration is encouraged. First drink on us!&nbsp\;<br />\n<br />\nThank you to our Division Sponsor FIRST MIDWEST BANK and our Presenting Sponsor SOLVENTUM
LOCATION:Son of a Gun Address: 16 N 9th St\, Columbia\, MO 65201
UID:e.2790.11982
SEQUENCE:3
DTSTAMP:20260421T015049Z
URL:https://business.comochamber.com/events/details/epic-new-member-welcome-11982
END:VEVENT

END:VCALENDAR
