BEGIN:VCALENDAR
VERSION:2.0
PRODID:-//ChamberMaster//Event Calendar 2.0//EN
METHOD:PUBLISH
X-PUBLISHED-TTL:P3D
REFRESH-INTERVAL:P3D
CALSCALE:GREGORIAN
BEGIN:VEVENT
DTSTART:20240822T213000Z
DTEND:20240822T233000Z
X-MICROSOFT-CDO-ALLDAYEVENT:FALSE
SUMMARY:EPIC New Member Welcome
DESCRIPTION:EPIC is hosting a New Member Welcome event to kick off our new fiscal year! If you've joined EPIC within the past six months\, come by to find out all the ways to take advantage of your EPIC membership. Or\, if you're interested in joining EPIC\, come by and find out everything associated with being a member. Current EPIC member are encouraged to come and mingle with our new members!\n\n \n\nWhile this event is free\, advanced registration is encouraged.\nWhile this event is free\, advanced registration is encouraged. \n\n\n\nQuestions? Contact Jazmyn Drake at jdrake@ColumbiaMOChamber.com
X-ALT-DESC;FMTTYPE=text/html:<p class="cvGsUA direction-ltr align-start para-style-body" style="color: rgb(0\, 0\, 0)\; font-family: &quot\;YAD1aU3sLnI 0&quot\;\, _fb_\, auto\; --cyV3ZQ: 26.6667px\; --gJPlXQ: 1.4\; line-height: 37px\;"><span class="OYPEnA font-feature-liga-off font-feature-clig-off font-feature-calt-off text-decoration-none text-strikethrough-none" style="font-kerning: none\;">EPIC is hosting a New Member Welcome event to kick off our new fiscal year! If you&#39\;ve joined EPIC within the past six months\, come by to find out all the ways to take advantage of your EPIC membership. Or\, if you&#39\;re interested in joining EPIC\, come by and find out everything associated with being a member. Current EPIC member are encouraged to come and mingle with our new members!</span></p>\n\n<p class="cvGsUA direction-ltr align-start para-style-body" style="color: rgb(0\, 0\, 0)\; font-family: &quot\;YAD1aU3sLnI 0&quot\;\, _fb_\, auto\; --cyV3ZQ: 26.6667px\; --gJPlXQ: 1.4\; line-height: 37px\;">&nbsp\;</p>\n\n<p class="cvGsUA direction-ltr align-start para-style-body" style="color: rgb(0\, 0\, 0)\; font-family: &quot\;YAD1aU3sLnI 0&quot\;\, _fb_\, auto\; --cyV3ZQ: 26.6667px\; --gJPlXQ: 1.4\; line-height: 37px\;"><span class="OYPEnA font-feature-liga-off font-feature-clig-off font-feature-calt-off text-decoration-none text-strikethrough-none" style="font-kerning: none\;">While this event is free\, advanced registration is encouraged.</span></p>\nWhile this event is free\, advanced registration is encouraged.&nbsp\;<br />\n<br />\nQuestions? Contact Jazmyn Drake at jdrake@ColumbiaMOChamber.com
LOCATION:Gunter Hans 7 Hitt St\, Columbia\, MO 65201
UID:e.2790.11458
SEQUENCE:3
DTSTAMP:20260421T122432Z
URL:https://business.comochamber.com/events/details/epic-new-member-welcome-08-22-2024-11458
END:VEVENT

END:VCALENDAR
