BEGIN:VCALENDAR
VERSION:2.0
PRODID:-//ChamberMaster//Event Calendar 2.0//EN
METHOD:PUBLISH
X-PUBLISHED-TTL:P3D
REFRESH-INTERVAL:P3D
CALSCALE:GREGORIAN
BEGIN:VEVENT
DTSTART:20250923T203000Z
DTEND:20250923T220000Z
X-MICROSOFT-CDO-ALLDAYEVENT:FALSE
SUMMARY:EPIC Mentorship Mixer 2025
DESCRIPTION:Join us for the official kickoff of the EPIC Mentorship Program! This energizing gathering will bring together mentors and mentees for the first time to connect\, get to know one another\, and launch their mentorship journey.\n\n\n\nEnjoy light refreshments\, get a quick overview of what to expect from the program\, and dive into meaningful conversation with your mentor or mentee as you begin building a relationship that supports personal and professional growth.
X-ALT-DESC;FMTTYPE=text/html:Join us for the official kickoff of the EPIC Mentorship Program! This energizing gathering will bring together mentors and mentees for the first time to connect\, get to know one another\, and launch their mentorship journey.<br />\n<br />\nEnjoy light refreshments\, get a quick overview of what to expect from the program\, and dive into meaningful conversation with your mentor or mentee as you begin building a relationship that supports personal and professional growth.
LOCATION:Simmons Bank
UID:e.2790.12104
SEQUENCE:3
DTSTAMP:20260420T180341Z
URL:https://business.comochamber.com/events/details/epic-mentorship-mixer-2025-12104
END:VEVENT

END:VCALENDAR
