BEGIN:VCALENDAR
VERSION:2.0
PRODID:-//ChamberMaster//Event Calendar 2.0//EN
METHOD:PUBLISH
X-PUBLISHED-TTL:P3D
REFRESH-INTERVAL:P3D
CALSCALE:GREGORIAN
BEGIN:VEVENT
DTSTART:20240403T220000Z
DTEND:20240404T000000Z
X-MICROSOFT-CDO-ALLDAYEVENT:FALSE
SUMMARY:EPIC Members Only
DESCRIPTION:Join the Columbia Chamber of Commerce's EPIC Division for an exclusive members-only event at Logboat Brewing Co. Discover the secrets behind their updated facility with a guided tour while enjoying complimentary appetizers and the first drink on us. Don't miss this opportunity to network with fellow young professionals and experience the vibrant business community of Columbia firsthand!
X-ALT-DESC;FMTTYPE=text/html:<span style="color:#000000\;"><span class="OYPEnA text-decoration-none text-strikethrough-none">Join the Columbia Chamber of Commerce&#39\;s EPIC Division for an exclusive members-only event at Logboat Brewing Co. Discover the secrets behind their updated facility with a guided tour while enjoying complimentary appetizers and the first drink on us. Don&#39\;t miss this opportunity to network with fellow young professionals and experience the vibrant business community of Columbia firsthand!</span></span>
LOCATION:Logboat Brewing Co. 504 Fay St\, Columbia\, MO 6520
UID:e.2790.11108
SEQUENCE:3
DTSTAMP:20260421T222911Z
URL:https://business.comochamber.com/events/details/epic-members-only-11108
END:VEVENT

END:VCALENDAR
