BEGIN:VCALENDAR
VERSION:2.0
PRODID:-//ChamberMaster//Event Calendar 2.0//EN
METHOD:PUBLISH
X-PUBLISHED-TTL:P3D
REFRESH-INTERVAL:P3D
CALSCALE:GREGORIAN
BEGIN:VEVENT
DTSTART:20251105T223000Z
DTEND:20251105T233000Z
X-MICROSOFT-CDO-ALLDAYEVENT:FALSE
SUMMARY:EPIC Meet Up: Mixer
DESCRIPTION:Unwind with us at EPIC Meet Up: Mixer Edition the perfect way to close out your workday! Drop by Logboat Brewing Co. from 4:00 PM to 5:30 PM to mix\, mingle\, and make connections with fellow young professionals. No pressure\, no program just great conversations\, local brews\, and a relaxed atmosphere.
X-ALT-DESC;FMTTYPE=text/html:Unwind with us at <strong data-end="49" data-start="18">EPIC Meet Up: Mixer Edition</strong>&mdash\;the perfect way to close out your workday! Drop by Logboat Brewing Co. from 4:00 PM to 5:30 PM to mix\, mingle\, and make connections with fellow young professionals. No pressure\, no program&mdash\;just great conversations\, local brews\, and a relaxed atmosphere. &#127867\;&#127881\;
LOCATION:Address: 504 Fay St\, Columbia\, MO 65201
UID:e.2790.12049
SEQUENCE:3
DTSTAMP:20260420T175937Z
URL:https://business.comochamber.com/events/details/epic-meet-up-mixer-12049
END:VEVENT

END:VCALENDAR
