BEGIN:VCALENDAR
VERSION:2.0
PRODID:-//ChamberMaster//Event Calendar 2.0//EN
METHOD:PUBLISH
X-PUBLISHED-TTL:P3D
REFRESH-INTERVAL:P3D
CALSCALE:GREGORIAN
BEGIN:VEVENT
DTSTART:20240206T173000Z
DTEND:20240206T190000Z
X-MICROSOFT-CDO-ALLDAYEVENT:FALSE
SUMMARY:EPIC Luncheon: Board Governance 101
DESCRIPTION:Looking for a crash course in the world of Board Governance? For so many young professionals\, the idea of finding and joining a board can be daunting. Many individuals have questions about how to select a board or may be seeking advice in managing their professional commitments successfully. Whether you desire to learn about serving your community through a non-profit board or are interested in the idea of stewarding a business through a corporate board\, join EPIC and our panel of experienced professionals to learn all of the basics.
X-ALT-DESC;FMTTYPE=text/html:<span style="color: rgb(36\, 36\, 36)\; font-family: Calibri\, sans-serif\; font-size: 14.6667px\;">Looking for a crash course in the world of Board Governance? For so many young professionals\, the idea of finding and joining a board can be daunting. Many individuals have questions about how to select a board or may be seeking advice in managing their professional commitments successfully. Whether you desire to learn about serving your community through a non-profit board or are interested in the idea of stewarding a business through a corporate board\, join EPIC and our panel of experienced professionals to learn all of the basics.</span>
LOCATION:Simmons Bank 801 E. Broadway
UID:e.2790.11106
SEQUENCE:3
DTSTAMP:20260422T014912Z
URL:https://business.comochamber.com/events/details/epic-luncheon-board-governance-101-11106
END:VEVENT

END:VCALENDAR
