BEGIN:VCALENDAR
VERSION:2.0
PRODID:-//ChamberMaster//Event Calendar 2.0//EN
METHOD:PUBLISH
X-PUBLISHED-TTL:P3D
REFRESH-INTERVAL:P3D
CALSCALE:GREGORIAN
BEGIN:VEVENT
DTSTART:20210114T141500Z
DTEND:20210114T153000Z
X-MICROSOFT-CDO-ALLDAYEVENT:FALSE
SUMMARY:Chamber Small Business Committee Meeting - Jan 2021
DESCRIPTION:Co-chaired by Greg Brockmeier\, Brockmeier Financial Services\, LLC\, and Chrissy Jones\, Seville Woodworks\, the purpose of the Small Business Committee is to promote the growth\, profitability and recognition of small businesses through Chamber educational programs\, networking\, special events and promotional activities.
X-ALT-DESC;FMTTYPE=text/html:<span style="font-size: 14px\;"><span style="font-family: verdana\;">Co-chaired by Greg Brockmeier\,&nbsp\;<em>Brockmeier Financial Services\, LLC</em>\, and Chrissy Jones\, <em>Seville Woodworks</em></span></span><font face="Verdana"><span style="font-size: 14px\;"><span style="font-family: verdana\;">\,&nbsp\;the purpose of the Small Business Committee is to promote the growth\, profitability&nbsp\;</span></span><span style="font-size: 14px\;"><span style="font-family: verdana\;">and</span></span></font><span style="font-size: 14px\;"><span style="font-family: verdana\;">&nbsp\;recognition of small businesses through Chamber educational programs\, networking\, special events and promotional activities.</span></span>
LOCATION:Virtual & In-Person Hybrid Event The first 12 registrants selecting In-Person will be provided the event location. All others will receive the virtual link.
UID:e.2790.7867
SEQUENCE:3
DTSTAMP:20260424T170513Z
URL:https://business.comochamber.com/events/details/chamber-small-business-committee-meeting-jan-2021-7867
END:VEVENT

END:VCALENDAR
