BEGIN:VCALENDAR
VERSION:2.0
PRODID:-//ChamberMaster//Event Calendar 2.0//EN
METHOD:PUBLISH
X-PUBLISHED-TTL:P3D
REFRESH-INTERVAL:P3D
CALSCALE:GREGORIAN
BEGIN:VEVENT
DTSTART:20220210T141500Z
DTEND:20220210T153000Z
X-MICROSOFT-CDO-ALLDAYEVENT:FALSE
SUMMARY:Chamber Small Business Committee Meeting - February 2022
DESCRIPTION:Co-chaired by Greg Brockmeier\, Brockmeier Financial Services\, LLC\, and Lisa Driskel Hawxby\, DogMaster Distillery\, the purpose of the Small Business Committee is to promote the growth\, profitability and recognition of small businesses through Chamber educational programs\, networking\, special events and promotional activities.
X-ALT-DESC;FMTTYPE=text/html:<span style="font-size: 14px\;"><span style="font-family: verdana\;">Co-chaired by Greg Brockmeier\,&nbsp\;<em>Brockmeier Financial Services\, LLC</em>\, and Lisa Driskel Hawxby\,&nbsp\;<em>DogMaster Distillery</em></span></span><font face="Verdana"><span style="font-size: 14px\;"><span style="font-family: verdana\;">\,&nbsp\;the purpose of the Small Business Committee is to promote the growth\, profitability&nbsp\;</span></span><span style="font-size: 14px\;"><span style="font-family: verdana\;">and</span></span></font><span style="font-size: 14px\;"><span style="font-family: verdana\;">&nbsp\;recognition of small businesses through Chamber educational programs\, networking\, special events and promotional activities.</span></span>
LOCATION:
UID:e.2790.8034
SEQUENCE:3
DTSTAMP:20260423T181928Z
URL:https://business.comochamber.com/events/details/chamber-small-business-committee-meeting-february-2022-8034
END:VEVENT

END:VCALENDAR
