BEGIN:VCALENDAR
VERSION:2.0
PRODID:-//ChamberMaster//Event Calendar 2.0//EN
METHOD:PUBLISH
X-PUBLISHED-TTL:P3D
REFRESH-INTERVAL:P3D
CALSCALE:GREGORIAN
BEGIN:VEVENT
DTSTART:20240624T203000Z
DTEND:20240624T220000Z
X-MICROSOFT-CDO-ALLDAYEVENT:FALSE
SUMMARY:Chamber Executive Committee Meeting
DESCRIPTION:Chamber Executive Committee Meeting usually the 3rd or 4th Monday of the Month.
X-ALT-DESC;FMTTYPE=text/html:Chamber Executive Committee Meeting usually the 3rd or 4th Monday of the Month.
LOCATION:
UID:e.2790.10897
SEQUENCE:3
DTSTAMP:20260421T191659Z
URL:https://business.comochamber.com/events/details/chamber-executive-committee-meeting-10897
END:VEVENT

END:VCALENDAR
