BEGIN:VCALENDAR
VERSION:2.0
PRODID:-//ChamberMaster//Event Calendar 2.0//EN
METHOD:PUBLISH
X-PUBLISHED-TTL:P3D
REFRESH-INTERVAL:P3D
CALSCALE:GREGORIAN
BEGIN:VEVENT
DTSTART:20241023T210000Z
DTEND:20241023T224500Z
X-MICROSOFT-CDO-ALLDAYEVENT:FALSE
SUMMARY:Candidate Forum - October 2024 General Election
DESCRIPTION:Join the Columbia Chamber of Commerce as we learn more about the candidates seeking election this November\, including the Missouri House of Representatives\, the Missouri Senate\, County Commission and so many more. Save the date for Wednesday\, October 23rd at 4 p.m. at the Missouri State High School Activities Association.
X-ALT-DESC;FMTTYPE=text/html:<div style="FONT-FAMILY: Arial"><span style="font-size:14px\;"><span style="font-family:verdana\;">Join the Columbia Chamber of Commerce as we learn more about the candidates seeking election this November\, including the Missouri House of Representatives\, the Missouri Senate\, County Commission and so many more. Save the date for Wednesday\, October 23rd&nbsp\;at 4 p.m. at the Missouri State High School Activities Association.</span></span></div>\n
LOCATION:Missouri State High School Activities Association 1 N. Keene St Columbia\, MO 65201
UID:e.2790.11643
SEQUENCE:3
DTSTAMP:20260421T091756Z
URL:https://business.comochamber.com/events/details/candidate-forum-october-2024-general-election-11643
END:VEVENT

END:VCALENDAR
