BEGIN:VCALENDAR
VERSION:2.0
PRODID:-//ChamberMaster//Event Calendar 2.0//EN
METHOD:PUBLISH
X-PUBLISHED-TTL:P3D
REFRESH-INTERVAL:P3D
CALSCALE:GREGORIAN
BEGIN:VEVENT
DTSTART:20230321T210000Z
DTEND:20230321T223000Z
X-MICROSOFT-CDO-ALLDAYEVENT:FALSE
SUMMARY:Candidate Forum - April 2023 Municipal Election
DESCRIPTION:Join the Columbia Chamber of Commerce as we learn more about the candidates vying for the Columbia City Council Ward 1 and Ward 5 as well as the Columbia Public School Districts School Board seats in the Tuesday\, April 4th Municipal Election.
X-ALT-DESC;FMTTYPE=text/html:<div style="FONT-FAMILY: Arial"><span style="font-size:14px\;"><span style="font-family:verdana\;">Join the Columbia Chamber of Commerce as we learn more about the candidates vying for the Columbia City Council Ward 1 and Ward 5&nbsp\;as well as the Columbia Public School Districts School Board&nbsp\;seats in the Tuesday\, April&nbsp\;4th&nbsp\;Municipal&nbsp\;Election.</span></span></div>\n
LOCATION:Missouri State High School Activities Association 1 N. Keene St Columbia\, MO 65201
UID:e.2790.10835
SEQUENCE:3
DTSTAMP:20260421T102646Z
URL:https://business.comochamber.com/events/details/candidate-forum-april-2023-municipal-election-10835
END:VEVENT

END:VCALENDAR
