BEGIN:VCALENDAR
VERSION:2.0
PRODID:-//ChamberMaster//Event Calendar 2.0//EN
METHOD:PUBLISH
X-PUBLISHED-TTL:P3D
REFRESH-INTERVAL:P3D
CALSCALE:GREGORIAN
BEGIN:VEVENT
DTSTART:20250423T180000Z
DTEND:20250423T183000Z
X-MICROSOFT-CDO-ALLDAYEVENT:FALSE
SUMMARY:CANCELLED RIBBON CUTTING: Community Foundation of Central Missouri
DESCRIPTION:**This event has been cancelled and will be rescheduled at a later time.**\n\nThe Ambassadors will host a ribbon cutting to celebrate the opening of CFCM's new office space.
X-ALT-DESC;FMTTYPE=text/html:<span style="color:#B22222\;"><strong>**This event has been cancelled and will be rescheduled at a later time.**</strong></span><br />\nThe Ambassadors will host a ribbon cutting to celebrate the opening of CFCM&#39\;s new office space.&nbsp\;
LOCATION:2635 S Providence Rd Columbia\, MO 65203
UID:e.2790.12013
SEQUENCE:3
DTSTAMP:20260421T005208Z
URL:https://business.comochamber.com/events/details/cancelled-ribbon-cutting-community-foundation-of-central-missouri-12013
END:VEVENT

END:VCALENDAR
