BEGIN:VCALENDAR
VERSION:2.0
PRODID:-//ChamberMaster//Event Calendar 2.0//EN
METHOD:PUBLISH
X-PUBLISHED-TTL:P3D
REFRESH-INTERVAL:P3D
CALSCALE:GREGORIAN
BEGIN:VEVENT
DTSTART:20241210T180000Z
DTEND:20241210T190000Z
X-MICROSOFT-CDO-ALLDAYEVENT:FALSE
SUMMARY:**CANCELLED**BUSINESS IN MOTION EXPO 2025 Committee Meeting
DESCRIPTION:
X-ALT-DESC;FMTTYPE=text/html:<div style="text-align: center\;">&nbsp\;</div>\n\n<div style="text-align: center\;">&nbsp\;</div>\n\n<div style="text-align: center\;">\n<div style="text-align: left\;">&nbsp\;</div>\n</div>\n\n<div style="text-align: center\;">&nbsp\;</div>\n
LOCATION:Chamber (Walton Building) 300 S Providence Rd Columbia\, MO 65203
UID:e.2790.11660
SEQUENCE:3
DTSTAMP:20260421T083707Z
URL:https://business.comochamber.com/events/details/cancelled-business-in-motion-expo-2025-committee-meeting-11660
END:VEVENT

END:VCALENDAR
