BEGIN:VCALENDAR
VERSION:2.0
PRODID:-//ChamberMaster//Event Calendar 2.0//EN
METHOD:PUBLISH
X-PUBLISHED-TTL:P3D
REFRESH-INTERVAL:P3D
CALSCALE:GREGORIAN
BEGIN:VEVENT
DTSTART:20210107T220000Z
DTEND:20210107T230000Z
X-MICROSOFT-CDO-ALLDAYEVENT:FALSE
SUMMARY:CANCELED: Government Affairs Committee Meeting
DESCRIPTION:The January 2021 meeting of the Government Affairs Committee is canceled in lieu of the 2021 Legislative Reception.\n\n\n\nThe purpose of the Government Affairs Committee is to provide leadership\, education and advocacy that enhances the economic environment and represents the political interests of the Columbia business community. To develop cooperative relationships with organizations and to establish and nurture positive relationships with local\, state and federal government officials. A strong advocacy in governmental affairs will maintain and advance the region's business climate\, attract new membership and be an effective\, respected voice of the community. \n\n\n\nCo-chaired by Heather Grote\, Grote & Associates\, and Mike Grellner\, Plaza Commercial Realty.
X-ALT-DESC;FMTTYPE=text/html:<strong style="font-family: verdana\; font-size: 14px\;"><span style="color: rgb(255\, 0\, 0)\;"><span class="TextRun SCXW167385396 BCX0" data-contrast="auto" lang="EN-US" style="font-style: normal\; margin: 0px\; padding: 0px\; user-select: text\; -webkit-user-drag: none\; -webkit-tap-highlight-color: transparent\; font-kerning: none\; line-height: 18px\; font-variant-ligatures: none !important\;" xml:lang="EN-US"><span class="NormalTextRun SCXW167385396 BCX0" style="margin: 0px\; padding: 0px\; user-select: text\; -webkit-user-drag: none\; -webkit-tap-highlight-color: transparent\; background-color: inherit\;">The January 2021 meeting of the Government Affairs Committee is canceled in lieu of the <a href="https://business.columbiamochamber.com/events/details/legislative-reception-2021-7400?calendarMonth=2021-01-01">2021 Legislative Reception</a>.</span></span></span></strong><br />\n<br />\n<span style="font-family:verdana\;"><span style="font-size:14px\;"><span class="TextRun SCXW167385396 BCX0" data-contrast="auto" lang="EN-US" style="margin: 0px\; padding: 0px\; user-select: text\; -webkit-user-drag: none\; -webkit-tap-highlight-color: transparent\; color: rgb(0\, 0\, 0)\; font-style: normal\; font-kerning: none\; line-height: 18px\; font-variant-ligatures: none !important\;" xml:lang="EN-US"><span class="NormalTextRun SCXW167385396 BCX0" style="margin: 0px\; padding: 0px\; user-select: text\; -webkit-user-drag: none\; -webkit-tap-highlight-color: transparent\; background-color: inherit\;">The purpose of the Government Affairs Committee is to provide leadership\, education and advocacy that enhances the economic environment and represents the political interests of the Columbia business community. To develop cooperative relationships with organizations and to establish and nurture positive relationships with local\, state and federal government officials.</span></span><span class="EOP SCXW167385396 BCX0" data-ccp-props="{&quot\;201341983&quot\;:0\,&quot\;335559739&quot\;:160\,&quot\;335559740&quot\;:240}" style="margin: 0px\; padding: 0px\; user-select: text\; -webkit-user-drag: none\; -webkit-tap-highlight-color: transparent\; color: rgb(0\, 0\, 0)\; line-height: 18px\;">&nbsp\;</span><span class="TextRun SCXW12110602 BCX0" data-contrast="auto" lang="EN-US" style="margin: 0px\; padding: 0px\; user-select: text\; -webkit-user-drag: none\; -webkit-tap-highlight-color: transparent\; color: rgb(0\, 0\, 0)\; font-style: normal\; font-kerning: none\; line-height: 18px\; font-variant-ligatures: none !important\;" xml:lang="EN-US"><span class="NormalTextRun SCXW12110602 BCX0" style="margin: 0px\; padding: 0px\; user-select: text\; -webkit-user-drag: none\; -webkit-tap-highlight-color: transparent\; background-color: inherit\;">A strong advoca</span></span><span class="TextRun SCXW12110602 BCX0" data-contrast="auto" lang="EN-US" style="margin: 0px\; padding: 0px\; user-select: text\; -webkit-user-drag: none\; -webkit-tap-highlight-color: transparent\; color: rgb(0\, 0\, 0)\; font-style: normal\; font-kerning: none\; line-height: 18px\; font-variant-ligatures: none !important\;" xml:lang="EN-US"><span class="NormalTextRun SCXW12110602 BCX0" style="margin: 0px\; padding: 0px\; user-select: text\; -webkit-user-drag: none\; -webkit-tap-highlight-color: transparent\; background-color: inherit\;">cy</span></span><span class="TextRun SCXW12110602 BCX0" data-contrast="auto" lang="EN-US" style="margin: 0px\; padding: 0px\; user-select: text\; -webkit-user-drag: none\; -webkit-tap-highlight-color: transparent\; color: rgb(0\, 0\, 0)\; font-style: normal\; font-kerning: none\; line-height: 18px\; font-variant-ligatures: none !important\;" xml:lang="EN-US"><span class="NormalTextRun SCXW12110602 BCX0" style="margin: 0px\; padding: 0px\; user-select: text\; -webkit-user-drag: none\; -webkit-tap-highlight-color: transparent\; background-color: inherit\;">&nbsp\;in governmental affairs will maintain and advance the&nbsp\;</span></span><span class="TextRun SCXW12110602 BCX0" data-contrast="auto" lang="EN-US" style="margin: 0px\; padding: 0px\; user-select: text\; -webkit-user-drag: none\; -webkit-tap-highlight-color: transparent\; color: rgb(0\, 0\, 0)\; font-style: normal\; font-kerning: none\; line-height: 18px\; font-variant-ligatures: none !important\;" xml:lang="EN-US"><span class="NormalTextRun SCXW12110602 BCX0" style="margin: 0px\; padding: 0px\; user-select: text\; -webkit-user-drag: none\; -webkit-tap-highlight-color: transparent\; background-color: inherit\;">region</span></span><span class="TextRun SCXW12110602 BCX0" data-contrast="auto" lang="EN-US" style="margin: 0px\; padding: 0px\; user-select: text\; -webkit-user-drag: none\; -webkit-tap-highlight-color: transparent\; color: rgb(0\, 0\, 0)\; font-style: normal\; font-kerning: none\; line-height: 18px\; font-variant-ligatures: none !important\;" xml:lang="EN-US"><span class="NormalTextRun SCXW12110602 BCX0" style="margin: 0px\; padding: 0px\; user-select: text\; -webkit-user-drag: none\; -webkit-tap-highlight-color: transparent\; background-color: inherit\;">&rsquo\;s business climate\, attract new membership and be an effective\, respected voice of the community.</span></span><span class="EOP SCXW12110602 BCX0" data-ccp-props="{&quot\;201341983&quot\;:0\,&quot\;335559739&quot\;:160\,&quot\;335559740&quot\;:240}" style="margin: 0px\; padding: 0px\; user-select: text\; -webkit-user-drag: none\; -webkit-tap-highlight-color: transparent\; color: rgb(0\, 0\, 0)\; line-height: 18px\;">&nbsp\;</span></span></span><br />\n<br />\n<span style="font-family: verdana\; font-size: 14px\;">Co-chaired by&nbsp\;</span><strong style="font-family: verdana\; font-size: 14px\;"><a href="https://www.groteandassociates.net/heather-grote">Heather Grote\, Grote &amp\; Associates</a>\, and <a href="https://www.paulland.com/about">Mike Grellner\, Plaza Commercial Realty</a>.&nbsp\;</strong>
LOCATION:Community Room at the Walton Building 300 S Providence Rd Columbia\, MO 65203
UID:e.2790.7139
SEQUENCE:3
DTSTAMP:20260424T170635Z
URL:https://business.comochamber.com/events/details/canceled-government-affairs-committee-meeting-01-07-2021-7139
END:VEVENT

END:VCALENDAR
